BEGIN:VCALENDAR
VERSION:2.0
PRODID:-//AfD Heilbronn - ECPv6.15.20//NONSGML v1.0//EN
CALSCALE:GREGORIAN
METHOD:PUBLISH
X-ORIGINAL-URL:https://www.afd-hn.de
X-WR-CALDESC:Veranstaltungen für AfD Heilbronn
REFRESH-INTERVAL;VALUE=DURATION:PT1H
X-Robots-Tag:noindex
X-PUBLISHED-TTL:PT1H
BEGIN:VTIMEZONE
TZID:UTC
BEGIN:STANDARD
TZOFFSETFROM:+0000
TZOFFSETTO:+0000
TZNAME:UTC
DTSTART:20230101T000000
END:STANDARD
END:VTIMEZONE
BEGIN:VEVENT
DTSTART;TZID=UTC:20240202T190000
DTEND;TZID=UTC:20240202T190000
DTSTAMP:20260423T205557
CREATED:20240129T173841Z
LAST-MODIFIED:20240129T173957Z
UID:4707-1706900400-1706900400@www.afd-hn.de
SUMMARY:KV Rhein-Neckar: Markus Frohnmaier in St. Leon-Rot
DESCRIPTION:Liebe Freunde und Mitglieder der Alternative für Deutschland\, wir freuen uns\, Ihnen mitteilen zu können\, dass am Freitag\, den 2. Februar\, ab 19.00 Uhr Markus Frohnmaier\, Landessprecher und Abgeordneter im Deutschen Bundestag\, zu uns in den Rhein-Neckar-Kreis kommt. Freunde und Interessenten sind herzlich willkommen – über zahlreiches Erscheinen würden wir uns freuen! Bitte reservieren Sie sich diesen Abend für einen besonderen Stammtisch\, bei dem Sie Markus Frohnmaier direkt Fragen stellen können über seine Arbeit im Bundestag. \nAnmeldung: vorstand@afd-rnk.de
URL:https://www.afd-hn.de/veranstaltung/kvrnk-frohnmaier/
CATEGORIES:Veranstaltungen
ATTACH;FMTTYPE=image/jpeg:https://www.afd-hn.de/wp-content/uploads/2024/01/frohnmaier-st-leon-rot.jpg
ORGANIZER;CN="AfD Kreisverband Rhein-Neckar-Kreis":MAILTO:vorstand@afd-rnk.de
END:VEVENT
END:VCALENDAR