BEGIN:VCALENDAR
VERSION:2.0
PRODID:-//AfD Heilbronn - ECPv6.15.20//NONSGML v1.0//EN
CALSCALE:GREGORIAN
METHOD:PUBLISH
X-WR-CALNAME:AfD Heilbronn
X-ORIGINAL-URL:https://www.afd-hn.de
X-WR-CALDESC:Veranstaltungen für AfD Heilbronn
REFRESH-INTERVAL;VALUE=DURATION:PT1H
X-Robots-Tag:noindex
X-PUBLISHED-TTL:PT1H
BEGIN:VTIMEZONE
TZID:Europe/Berlin
BEGIN:DAYLIGHT
TZOFFSETFROM:+0100
TZOFFSETTO:+0200
TZNAME:CEST
DTSTART:20250330T010000
END:DAYLIGHT
BEGIN:STANDARD
TZOFFSETFROM:+0200
TZOFFSETTO:+0100
TZNAME:CET
DTSTART:20251026T010000
END:STANDARD
BEGIN:DAYLIGHT
TZOFFSETFROM:+0100
TZOFFSETTO:+0200
TZNAME:CEST
DTSTART:20260329T010000
END:DAYLIGHT
BEGIN:STANDARD
TZOFFSETFROM:+0200
TZOFFSETTO:+0100
TZNAME:CET
DTSTART:20261025T010000
END:STANDARD
BEGIN:DAYLIGHT
TZOFFSETFROM:+0100
TZOFFSETTO:+0200
TZNAME:CEST
DTSTART:20270328T010000
END:DAYLIGHT
BEGIN:STANDARD
TZOFFSETFROM:+0200
TZOFFSETTO:+0100
TZNAME:CET
DTSTART:20271031T010000
END:STANDARD
END:VTIMEZONE
BEGIN:VEVENT
DTSTART;TZID=Europe/Berlin:20260131T180000
DTEND;TZID=Europe/Berlin:20260131T180000
DTSTAMP:20260422T141750
CREATED:20260125T151843Z
LAST-MODIFIED:20260127T112702Z
UID:5764-1769882400-1769882400@www.afd-hn.de
SUMMARY:OV Leintal: Bürgerdialog mit MdB Jürgen Koegel und Kandidat Maximilian Decker
DESCRIPTION:Der Ortsverband Leintal lädt zum Bürgerdialog mit unserem Bundestagsabgeordneten Jürgen Koegel und unserem Landtagskandidaten für den Wahlkreis Heilbronn Maximilian Decker nach Schwaigern ein. \nHeilbronner Str. 29\, 74193 Schwaigern \nSamstag\, 31. Januar 2026 ab 18 Uhr
URL:https://www.afd-hn.de/veranstaltung/buergerdialog-schwaigern/
CATEGORIES:Stadtgespräche,Veranstaltungen
ATTACH;FMTTYPE=image/jpeg:https://www.afd-hn.de/wp-content/uploads/2026/01/Buergerdialog-31.01.jpg
END:VEVENT
END:VCALENDAR