BEGIN:VCALENDAR
VERSION:2.0
PRODID:-//AfD Heilbronn - ECPv6.15.20//NONSGML v1.0//EN
CALSCALE:GREGORIAN
METHOD:PUBLISH
X-ORIGINAL-URL:https://www.afd-hn.de
X-WR-CALDESC:Veranstaltungen für AfD Heilbronn
REFRESH-INTERVAL;VALUE=DURATION:PT1H
X-Robots-Tag:noindex
X-PUBLISHED-TTL:PT1H
BEGIN:VTIMEZONE
TZID:UTC
BEGIN:STANDARD
TZOFFSETFROM:+0000
TZOFFSETTO:+0000
TZNAME:UTC
DTSTART:20230101T000000
END:STANDARD
END:VTIMEZONE
BEGIN:VEVENT
DTSTART;TZID=UTC:20240220T190000
DTEND;TZID=UTC:20240220T190000
DTSTAMP:20260422T125758
CREATED:20231122T121237Z
LAST-MODIFIED:20240205T164331Z
UID:4248-1708455600-1708455600@www.afd-hn.de
SUMMARY:Alternatives Stadtgespräch Februar 2024
DESCRIPTION:Die „Alternativen Stadtgespräche“ finden monatlich zu wechselnden Themen\, mit wechselnden Rednern und an wechselnden Orten im Stadt- und Landkreis Heilbronn statt. Im Februar hält der Landtagsabgeordnete Ruben Rupp einen Vortrag. Vor den anstehenden Wahlen beschäftigen wir uns natürlich aber auch bei jedem dieser Gespräche mit den Kommunalwahlen.  \nBei Interesse an unseren Stadtgesprächen schreiben Sie bitte dem Vorstand (vorstand@afd-hn.de)\, um weitere Informationen zu erhalten.
URL:https://www.afd-hn.de/veranstaltung/stadtgespraech-februar2024/
LOCATION:Landkreis Heilbronn\, Deutschland
CATEGORIES:Stadtgespräche
ATTACH;FMTTYPE=image/jpeg:https://www.afd-hn.de/wp-content/uploads/2023/11/stagespraech-februar.jpeg
ORGANIZER;CN="AfD Kreisverband Heilbronn":MAILTO:vorstand@afd-hn.de
END:VEVENT
END:VCALENDAR