BEGIN:VCALENDAR
VERSION:2.0
PRODID:-//AfD Heilbronn - ECPv6.15.20//NONSGML v1.0//EN
CALSCALE:GREGORIAN
METHOD:PUBLISH
X-ORIGINAL-URL:https://www.afd-hn.de
X-WR-CALDESC:Veranstaltungen für AfD Heilbronn
REFRESH-INTERVAL;VALUE=DURATION:PT1H
X-Robots-Tag:noindex
X-PUBLISHED-TTL:PT1H
BEGIN:VTIMEZONE
TZID:UTC
BEGIN:STANDARD
TZOFFSETFROM:+0000
TZOFFSETTO:+0000
TZNAME:UTC
DTSTART:20230101T000000
END:STANDARD
END:VTIMEZONE
BEGIN:VEVENT
DTSTART;VALUE=DATE:20240224
DTEND;VALUE=DATE:20240226
DTSTAMP:20260422T200831
CREATED:20240115T155136Z
LAST-MODIFIED:20240115T155136Z
UID:4644-1708732800-1708905599@www.afd-hn.de
SUMMARY:Landesparteitag 2024
DESCRIPTION:Wahrscheinlich findet am 24. und 25. Februar 2024 ein Landesparteitag der AfD Baden-Württemberg statt. Zu Landesparteitagen sind alle Mitglieder des Landesverbandes herzlich eingeladen. Voraussichtlich wird der Landesvorstand neu gewählt – die Amtszeit des aktuellen Vorstands ginge 2024 regulär zu Ende.
URL:https://www.afd-hn.de/veranstaltung/landesparteitag2024/
LOCATION:Rottweil\, Deutschland
CATEGORIES:Parteitage
ATTACH;FMTTYPE=image/jpeg:https://www.afd-hn.de/wp-content/uploads/2021/10/wahlen.jpg
END:VEVENT
END:VCALENDAR