BEGIN:VCALENDAR
VERSION:2.0
PRODID:-//AfD Heilbronn - ECPv6.15.20//NONSGML v1.0//EN
CALSCALE:GREGORIAN
METHOD:PUBLISH
X-ORIGINAL-URL:https://www.afd-hn.de
X-WR-CALDESC:Veranstaltungen für AfD Heilbronn
REFRESH-INTERVAL;VALUE=DURATION:PT1H
X-Robots-Tag:noindex
X-PUBLISHED-TTL:PT1H
BEGIN:VTIMEZONE
TZID:UTC
BEGIN:STANDARD
TZOFFSETFROM:+0000
TZOFFSETTO:+0000
TZNAME:UTC
DTSTART:20230101T000000
END:STANDARD
END:VTIMEZONE
BEGIN:VEVENT
DTSTART;TZID=UTC:20240703T183000
DTEND;TZID=UTC:20240703T183000
DTSTAMP:20260419T212156
CREATED:20240513T135502Z
LAST-MODIFIED:20240513T135502Z
UID:5010-1720031400-1720031400@www.afd-hn.de
SUMMARY:Alternatives Stadtgespräch Juli 2024
DESCRIPTION:Die „Alternativen Stadtgespräche“ finden monatlich zu wechselnden Themen\, mit wechselnden Rednern und an wechselnden Orten im Stadt- und Landkreis Heilbronn statt. Im Juli sind wir in Heilbronn. \nBei Interesse an unseren Stadtgesprächen schreiben Sie bitte dem Vorstand (vorstand@afd-hn.de)\, um weitere Informationen zu erhalten.
URL:https://www.afd-hn.de/veranstaltung/stadtgespraech-juli-2024/
LOCATION:Stadt Heilbronn\, Heilbronn\, Deutschland
CATEGORIES:Veranstaltungen
ATTACH;FMTTYPE=image/jpeg:https://www.afd-hn.de/wp-content/uploads/2023/11/stadtgespraeche.jpg
ORGANIZER;CN="AfD Kreisverband Heilbronn":MAILTO:vorstand@afd-hn.de
END:VEVENT
BEGIN:VEVENT
DTSTART;TZID=UTC:20240717T103000
DTEND;TZID=UTC:20240717T180000
DTSTAMP:20260419T212156
CREATED:20240126T111035Z
LAST-MODIFIED:20240126T111056Z
UID:4700-1721212200-1721239200@www.afd-hn.de
SUMMARY:Besuch im Landtag im Juli 2024
DESCRIPTION:Die Landtagsabgeordneten Carola Wolle und Dennis Klecker laden zum Besuch des Landtags von Baden-Württemberg ein. Bei Interesse melden Sie sich bitte über besuch@afd-landtag.de an. Die Kosten werden übernommen. \nDie genauen Uhrzeiten (Abfahrt\, etc.) werden noch bekanntgegeben.
URL:https://www.afd-hn.de/veranstaltung/landtagsbesuch-juli2024/
LOCATION:Landtag von Baden-Württemberg
CATEGORIES:Veranstaltungen
ATTACH;FMTTYPE=image/jpeg:https://www.afd-hn.de/wp-content/uploads/2023/11/landtag-1.jpg
END:VEVENT
BEGIN:VEVENT
DTSTART;TZID=UTC:20240727T150000
DTEND;TZID=UTC:20240727T150000
DTSTAMP:20260419T212156
CREATED:20240614T092502Z
LAST-MODIFIED:20240614T092502Z
UID:5042-1722092400-1722092400@www.afd-hn.de
SUMMARY:Mitgliederversammlung
DESCRIPTION:Vor dem Sommerfest findet eine Mitgliederversammlung der AfD im Stadt- und Landkreis Heilbronn statt.
URL:https://www.afd-hn.de/veranstaltung/mitgliederversammlung/
LOCATION:Landkreis Heilbronn\, Deutschland
CATEGORIES:Mitgliederversammlungen
ATTACH;FMTTYPE=image/jpeg:https://www.afd-hn.de/wp-content/uploads/2023/11/mitgliederversammlung-1.jpg
ORGANIZER;CN="AfD Kreisverband Heilbronn":MAILTO:vorstand@afd-hn.de
END:VEVENT
BEGIN:VEVENT
DTSTART;TZID=UTC:20240727T170000
DTEND;TZID=UTC:20240727T170000
DTSTAMP:20260419T212156
CREATED:20240430T120815Z
LAST-MODIFIED:20240614T092521Z
UID:4966-1722099600-1722099600@www.afd-hn.de
SUMMARY:Sommerfest
DESCRIPTION:Das Sommerfest der AfD Heilbronn findet am 27. Juli 2024 statt.
URL:https://www.afd-hn.de/veranstaltung/sommerfest2024/
LOCATION:Landkreis Heilbronn\, Deutschland
CATEGORIES:Veranstaltungen
ATTACH;FMTTYPE=image/jpeg:https://www.afd-hn.de/wp-content/uploads/2024/04/sommerfest-hn.jpg
ORGANIZER;CN="AfD Kreisverband Heilbronn":MAILTO:vorstand@afd-hn.de
END:VEVENT
END:VCALENDAR