BEGIN:VCALENDAR
VERSION:2.0
PRODID:-//AfD Heilbronn - ECPv6.15.20//NONSGML v1.0//EN
CALSCALE:GREGORIAN
METHOD:PUBLISH
X-ORIGINAL-URL:https://www.afd-hn.de
X-WR-CALDESC:Veranstaltungen für AfD Heilbronn
REFRESH-INTERVAL;VALUE=DURATION:PT1H
X-Robots-Tag:noindex
X-PUBLISHED-TTL:PT1H
BEGIN:VTIMEZONE
TZID:UTC
BEGIN:STANDARD
TZOFFSETFROM:+0000
TZOFFSETTO:+0000
TZNAME:UTC
DTSTART:20230101T000000
END:STANDARD
END:VTIMEZONE
BEGIN:VEVENT
DTSTART;TZID=UTC:20240604T183000
DTEND;TZID=UTC:20240604T183000
DTSTAMP:20260419T231512
CREATED:20240314T190935Z
LAST-MODIFIED:20240603T095729Z
UID:4809-1717525800-1717525800@www.afd-hn.de
SUMMARY:Alternatives Stadtgespräch Juni 2024: Windkraft
DESCRIPTION:Die „Alternativen Stadtgespräche“ finden monatlich zu wechselnden Themen\, mit wechselnden Rednern und an wechselnden Orten im Stadt- und Landkreis Heilbronn statt. Im Juni sind wir in Eppingen. Der Schwerpunkt bei diesem Stadtgespräch ist die Windkraft und Windkraft-Pläne in der Region. \nDie Bundestagsabgeordneten Andreas Bleck und Karsten Hilse werden live zugeschaltet. Andreas Bleck leitet den Arbeitskreis Umwelt\, Naturschutz\, nukleare Sicherheit und Verbraucherschutz\, Karsten Hilse leitet den Arbeitskreis Klimaschutz und Energie für die AfD im Deutschen Bundestag. \nBei Interesse an unseren Stadtgesprächen schreiben Sie bitte dem Vorstand (vorstand@afd-hn.de)\, um weitere Informationen zu erhalten.
URL:https://www.afd-hn.de/veranstaltung/stadtgespraech-juni-2024/
LOCATION:Eppingen\, Eppingen\, 75031\, Deutschland
CATEGORIES:Stadtgespräche
ATTACH;FMTTYPE=image/jpeg:https://www.afd-hn.de/wp-content/uploads/2024/03/energie-eppingen.jpg
ORGANIZER;CN="AfD Kreisverband Heilbronn":MAILTO:vorstand@afd-hn.de
END:VEVENT
BEGIN:VEVENT
DTSTART;TZID=UTC:20240609T080000
DTEND;TZID=UTC:20240609T180000
DTSTAMP:20260419T231512
CREATED:20231122T124205Z
LAST-MODIFIED:20231123T161603Z
UID:4270-1717920000-1717956000@www.afd-hn.de
SUMMARY:Kommunalwahl & Europawahl 2024
DESCRIPTION:Am 9. Juni 2024 finden die Europawahl 2024 und die Kommunalwahlen in Baden-Württemberg statt\, d.h. die Kreistage / Kreisräte und die Gemeinderäte werden neu gewählt.
URL:https://www.afd-hn.de/veranstaltung/kommunalwahl-europawahl/
CATEGORIES:Wahlen
ATTACH;FMTTYPE=image/jpeg:https://www.afd-hn.de/wp-content/uploads/2023/11/wahltag-scaled.jpg
END:VEVENT
END:VCALENDAR