BEGIN:VCALENDAR
VERSION:2.0
PRODID:-//AfD Heilbronn - ECPv6.15.20//NONSGML v1.0//EN
CALSCALE:GREGORIAN
METHOD:PUBLISH
X-WR-CALNAME:AfD Heilbronn
X-ORIGINAL-URL:https://www.afd-hn.de
X-WR-CALDESC:Veranstaltungen für AfD Heilbronn
REFRESH-INTERVAL;VALUE=DURATION:PT1H
X-Robots-Tag:noindex
X-PUBLISHED-TTL:PT1H
BEGIN:VTIMEZONE
TZID:UTC
BEGIN:STANDARD
TZOFFSETFROM:+0000
TZOFFSETTO:+0000
TZNAME:UTC
DTSTART:20230101T000000
END:STANDARD
END:VTIMEZONE
BEGIN:VEVENT
DTSTART;TZID=UTC:20240410T183000
DTEND;TZID=UTC:20240410T183000
DTSTAMP:20260420T025438
CREATED:20240221T151945Z
LAST-MODIFIED:20240311T101636Z
UID:4760-1712773800-1712773800@www.afd-hn.de
SUMMARY:Alternatives Stadtgespräch April 2024
DESCRIPTION:Die „Alternativen Stadtgespräche“ finden monatlich zu wechselnden Themen\, mit wechselnden Rednern und an wechselnden Orten im Stadt- und Landkreis Heilbronn statt. Im April sind wir in Heilbronn.\nBitte Änderung beachten: ursprünglich war Dienstag in Bad Friedrichshall geplant. \nBei Interesse an unseren Stadtgesprächen schreiben Sie bitte dem Vorstand (vorstand@afd-hn.de)\, um weitere Informationen zu erhalten.
URL:https://www.afd-hn.de/veranstaltung/stadtgespraech-april2024/
LOCATION:Stadt Heilbronn\, Heilbronn\, Deutschland
CATEGORIES:Stadtgespräche
ATTACH;FMTTYPE=image/jpeg:https://www.afd-hn.de/wp-content/uploads/2023/11/stadtgespraeche.jpg
ORGANIZER;CN="AfD Kreisverband Heilbronn":MAILTO:vorstand@afd-hn.de
END:VEVENT
END:VCALENDAR