BEGIN:VCALENDAR
VERSION:2.0
PRODID:-//AfD Heilbronn - ECPv6.15.20//NONSGML v1.0//EN
CALSCALE:GREGORIAN
METHOD:PUBLISH
X-ORIGINAL-URL:https://www.afd-hn.de
X-WR-CALDESC:Veranstaltungen für AfD Heilbronn
REFRESH-INTERVAL;VALUE=DURATION:PT1H
X-Robots-Tag:noindex
X-PUBLISHED-TTL:PT1H
BEGIN:VTIMEZONE
TZID:UTC
BEGIN:STANDARD
TZOFFSETFROM:+0000
TZOFFSETTO:+0000
TZNAME:UTC
DTSTART:20230101T000000
END:STANDARD
END:VTIMEZONE
BEGIN:VEVENT
DTSTART;TZID=UTC:20240305T190000
DTEND;TZID=UTC:20240305T190000
DTSTAMP:20260420T042545
CREATED:20240221T151624Z
LAST-MODIFIED:20240221T151943Z
UID:4756-1709665200-1709665200@www.afd-hn.de
SUMMARY:Alternatives Stadtgespräch März 2024
DESCRIPTION:Die „Alternativen Stadtgespräche“ finden monatlich zu wechselnden Themen\, mit wechselnden Rednern und an wechselnden Orten im Stadt- und Landkreis Heilbronn statt. Im März sind wir in Hardthausen. \nBei Interesse an unseren Stadtgesprächen schreiben Sie bitte dem Vorstand (vorstand@afd-hn.de)\, um weitere Informationen zu erhalten.
URL:https://www.afd-hn.de/veranstaltung/stadtgespraech-maerz2024/
LOCATION:Hardthausen\, Hardthausen\, Landkreis Heilbronn\, 74239\, Deutschland
CATEGORIES:Stadtgespräche
ATTACH;FMTTYPE=image/jpeg:https://www.afd-hn.de/wp-content/uploads/2023/11/stadtgespraeche.jpg
ORGANIZER;CN="AfD Kreisverband Heilbronn":MAILTO:vorstand@afd-hn.de
END:VEVENT
BEGIN:VEVENT
DTSTART;TZID=UTC:20240307T120000
DTEND;TZID=UTC:20240307T180000
DTSTAMP:20260420T042545
CREATED:20231123T084650Z
LAST-MODIFIED:20240220T130208Z
UID:4289-1709812800-1709834400@www.afd-hn.de
SUMMARY:Besuch im Landtag im März 2024
DESCRIPTION:Die Landtagsabgeordneten Dennis Klecker und Carola Wolle laden zum Besuch des Landtags von Baden-Württemberg ein. Bei Interesse melden Sie sich bitte über besuch@afd-landtag.de an. Die Kosten werden übernommen. Der voraussichtliche Ablauf: \n10:30 – Abfahrt des Buses von Neckarwestheim\nca. 12:00 – Mittagessen\nca. 14:15 – Einfinden vor dem Landtag\n14:30 – 15:00 Einführung\n15:00 – 16:00 Plenum\n16:00 – 16:30 Abgeordnetengespräch\nca. 16:45 Rückfahrt des Buses
URL:https://www.afd-hn.de/veranstaltung/landtagsbesuch-maerz2024/
LOCATION:Landtag von Baden-Württemberg
CATEGORIES:Besuchstage
ATTACH;FMTTYPE=image/jpeg:https://www.afd-hn.de/wp-content/uploads/2023/11/landtag-1.jpg
ORGANIZER;CN="Dennis Klecker%2C MdL":MAILTO:besuch@afd-landtag.de
END:VEVENT
BEGIN:VEVENT
DTSTART;TZID=UTC:20240323T190000
DTEND;TZID=UTC:20240323T190000
DTSTAMP:20260420T042545
CREATED:20231122T121607Z
LAST-MODIFIED:20240322T163939Z
UID:4254-1711220400-1711220400@www.afd-hn.de
SUMMARY:Dr. Alice Weidel\, Tino Chrupalla\, Stephan Brandner & Dr. Maximilian Krah in Heilbronn
DESCRIPTION:Am Samstag\, 23. März 2024 findet eine große Veranstaltung mit Top-Rednern der AfD in der Harmonie Heilbronn statt. Damit beginnt für uns das Wahlkampfjahr 2024. Erwartet werden die Bundesvorsitzenden Dr. Alice Weidel und Tino Chrupalla\, die Europaabgeordneten Dr. Maximilian Krah (Spitzenkandidat) und der Bundestagsabgeordnete und stellvertretende Bundessprecher Stephan Brandner! \n\nHausöffnung: 16.30 Uhr / Veranstaltungsbeginn: 19.00 Uhr\nHarmonie Heilbronn\, Allee 28\, 74072 Heilbronn\n\nWir haben den großen Saal und über 1.400 Plätze. Eine Reservierung bestimmter Plätze ist nicht möglich.\nBitte kommen Sie trotzdem rechtzeitig vorher\, da wir Sicherheitskontrollen (durch einen professionellen Sicherheitsdienst) durchführen lassen müssen. \n  \nParkmöglichkeiten:\nIn der Tiefgarage der Harmonie Heilbronn (Einfahrt Gymnasiumstraße) stehen etwa 400 Parkplätze zur Verfügung. Umliegend gibt es weitere Parkhäuser in der Innenstadt\, z.B.: \n\nParkhaus Klosterhof/Kiliansplatz: Kilianstraße 11\, 74072 Heilbronn (5 Min.)\nB+B Parkhaus Wollhauszentrum: Am Wollhaus 10\, 74072 Heilbronn (7 Min.)\nTheaterforum K3: Turmstraße 22\, 74072 Heilbronn (6-12 Min.) sowie beim\nFriedensplatz und bei der Mönchseehalle/Fußballplatz in der Oststraße.\n\n  \nÖffentliche Verkehrsmittel:\nMit öffentlichen Verkehrsmitteln ist die Anreise etwas schwierig\, da die Haltestelle Allee/Harmonie gesperrt wurde. Alle Linien\, die an der Harmonie vorbeigehen würden\, werden zwischen 11.30 Uhr und 23 Uhr umgeleitet. Die Haltestellen Allee Post\, Rathaus\, Neckarturm und Hauptbahnhof Willy-Brandt-Platz jeweils beidseitig nicht anfahrbar. Fahrgäste sollen als Alternative die Haltestelle Cäcilienstraße West nutzen. Auch die Ersatzhaltestelle Harmonie/Moltkestraße können Stadtbusse dann nicht anfahren. \n  \nDer Zugang zur Halle ist nur über den Haupteingang möglich. \nDer Eintritt ist kostenlos\, doch selbstverständlich verursachen solche Veranstaltungen und der Wahlkampf Kosten\, weshalb Sie dem Kreisverband gerne eine Spende zukommen lassen können. \n  \nDies ist eine geschlossene Veranstaltung\, d.h. der Veranstalter hat das Hausrecht und behält sich vor Störer auszuschließen.
URL:https://www.afd-hn.de/veranstaltung/wahlkampfauftakt-2024/
LOCATION:Harmonie Heilbronn\, Allee 28\, Heilbronn\, 74072
CATEGORIES:Veranstaltungen
ATTACH;FMTTYPE=image/jpeg:https://www.afd-hn.de/wp-content/uploads/2023/11/Wahlkampf-Heilbronn-23.03.24-Weidel-Krah-Chrupalla-Brandner-1-scaled.jpg
ORGANIZER;CN="AfD Kreisverband Heilbronn":MAILTO:vorstand@afd-hn.de
END:VEVENT
END:VCALENDAR