BEGIN:VCALENDAR
VERSION:2.0
PRODID:-//AfD Heilbronn - ECPv6.15.20//NONSGML v1.0//EN
CALSCALE:GREGORIAN
METHOD:PUBLISH
X-WR-CALNAME:AfD Heilbronn
X-ORIGINAL-URL:https://www.afd-hn.de
X-WR-CALDESC:Veranstaltungen für AfD Heilbronn
REFRESH-INTERVAL;VALUE=DURATION:PT1H
X-Robots-Tag:noindex
X-PUBLISHED-TTL:PT1H
BEGIN:VTIMEZONE
TZID:UTC
BEGIN:STANDARD
TZOFFSETFROM:+0000
TZOFFSETTO:+0000
TZNAME:UTC
DTSTART:20230101T000000
END:STANDARD
END:VTIMEZONE
BEGIN:VEVENT
DTSTART;TZID=UTC:20240116T190000
DTEND;TZID=UTC:20240116T190000
DTSTAMP:20260420T081357
CREATED:20231122T121129Z
LAST-MODIFIED:20231123T162120Z
UID:4246-1705431600-1705431600@www.afd-hn.de
SUMMARY:Alternatives Stadtgespräch Januar 2024
DESCRIPTION:Die „Alternativen Stadtgespräche“ finden monatlich zu wechselnden Themen\, mit wechselnden Rednern und an wechselnden Orten im Stadt- und Landkreis Heilbronn statt. Vor den anstehenden Wahlen beschäftigen wir uns natürlich auch bei jedem dieser Gespräche mit den Kommunalwahlen. \nBei Interesse an unseren Stadtgesprächen schreiben Sie bitte dem Vorstand (vorstand@afd-hn.de)\, um weitere Informationen zu erhalten. \nDas Stadtgespräch im Januar 2024 findet voraussichtlich in Abstatt statt.
URL:https://www.afd-hn.de/veranstaltung/stadtgespraech-januar2024/
LOCATION:Landkreis Heilbronn\, Deutschland
CATEGORIES:Stadtgespräche
ATTACH;FMTTYPE=image/jpeg:https://www.afd-hn.de/wp-content/uploads/2023/11/stadtgespraech-scaled.jpg
ORGANIZER;CN="AfD Kreisverband Heilbronn":MAILTO:vorstand@afd-hn.de
END:VEVENT
BEGIN:VEVENT
DTSTART;TZID=UTC:20240127T120000
DTEND;TZID=UTC:20240127T120000
DTSTAMP:20260420T081357
CREATED:20231122T121502Z
LAST-MODIFIED:20240115T135626Z
UID:4252-1706356800-1706356800@www.afd-hn.de
SUMMARY:Aufstellung Gemeinderat Heilbronn
DESCRIPTION:Aufstellung der AfD für den Gemeinderat der Stadt Heilbronn
URL:https://www.afd-hn.de/veranstaltung/aufstellung-heilbronn2024/
LOCATION:Stadt Heilbronn\, Heilbronn\, Deutschland
CATEGORIES:Aufstellungen
ATTACH;FMTTYPE=image/jpeg:https://www.afd-hn.de/wp-content/uploads/2023/11/aufstellung-scaled.jpg
ORGANIZER;CN="AfD Kreisverband Heilbronn":MAILTO:vorstand@afd-hn.de
END:VEVENT
END:VCALENDAR