BEGIN:VCALENDAR
VERSION:2.0
PRODID:-//AfD Heilbronn - ECPv6.15.20//NONSGML v1.0//EN
CALSCALE:GREGORIAN
METHOD:PUBLISH
X-ORIGINAL-URL:https://www.afd-hn.de
X-WR-CALDESC:Veranstaltungen für AfD Heilbronn
REFRESH-INTERVAL;VALUE=DURATION:PT1H
X-Robots-Tag:noindex
X-PUBLISHED-TTL:PT1H
BEGIN:VTIMEZONE
TZID:UTC
BEGIN:STANDARD
TZOFFSETFROM:+0000
TZOFFSETTO:+0000
TZNAME:UTC
DTSTART:20220101T000000
END:STANDARD
END:VTIMEZONE
BEGIN:VEVENT
DTSTART;TZID=UTC:20231205T190000
DTEND;TZID=UTC:20231205T190000
DTSTAMP:20260420T095903
CREATED:20231122T121828Z
LAST-MODIFIED:20231123T163837Z
UID:4258-1701802800-1701802800@www.afd-hn.de
SUMMARY:Weihnachtsfeier 2023
DESCRIPTION:Im Dezember 2023 findet die traditionelle Weihnachtsfeier des Kreisverbandes Heilbronn statt und ersetzt damit das „Alternative Stadtgespräch“ in diesem Monat. Die „Alternativen Stadtgespräche“ finden monatlich zu wechselnden Themen\, mit wechselnden Rednern und an wechselnden Orten im Stadt- und Landkreis Heilbronn statt. Vor den anstehenden Wahlen beschäftigen wir uns natürlich auch bei jedem dieser Gespräche mit den Kommunalwahlen. \nBei Interesse an unseren Stadtgesprächen schreiben Sie bitte dem Vorstand (vorstand@afd-hn.de)\, um weitere Informationen zu erhalten. \n  \nDas Stadtgespräch im Dezember 2023 findet zentral in der Stadt Heilbronn statt.
URL:https://www.afd-hn.de/veranstaltung/weihnachtsfeier2023/
LOCATION:Stadt Heilbronn\, Heilbronn\, Deutschland
CATEGORIES:Stadtgespräche
ATTACH;FMTTYPE=image/jpeg:https://www.afd-hn.de/wp-content/uploads/2023/11/Weihnachtsfeier-scaled.jpg
ORGANIZER;CN="AfD Kreisverband Heilbronn":MAILTO:vorstand@afd-hn.de
END:VEVENT
BEGIN:VEVENT
DTSTART;TZID=UTC:20231212T094500
DTEND;TZID=UTC:20231212T204500
DTSTAMP:20260420T095903
CREATED:20231123T085330Z
LAST-MODIFIED:20231123T091246Z
UID:4292-1702374300-1702413900@www.afd-hn.de
SUMMARY:Besuch des EU-Parlaments in Straßburg
DESCRIPTION:Joachim Kuhs\, Mitglied des Europaparlaments\, bietet einen Besuchstag im EU-Parlament in Straßburg an\, inklusive einem Abstecher beim weltbekannten Straßburger Weihnachtsmarkt. Anmeldung bis 1. Dezember 2023 bei Herrn Alexander Arpaschi (Tel. 0177 960 7878). \nDie Kosten für Parkgebühren in Kehl\, den Transfer von Kehl zum Parlament und zurück\, weitere Straßenbahnfahrten in Straßburg und das Abendessen inklusive Getränke werden übernommen.
URL:https://www.afd-hn.de/veranstaltung/europaparlament-strassburg/
LOCATION:EU-Parlament\, 1 Allée du Printemps\, Straßburg Cedex\, 67070\, Frankreich
CATEGORIES:Besuchstage
ATTACH;FMTTYPE=image/jpeg:https://www.afd-hn.de/wp-content/uploads/2023/11/the-european-parliament-in-strasbourg-5180626-scaled.jpg
END:VEVENT
BEGIN:VEVENT
DTSTART;VALUE=DATE:20231217
DTEND;VALUE=DATE:20231221
DTSTAMP:20260420T095903
CREATED:20231123T091054Z
LAST-MODIFIED:20231123T091216Z
UID:4303-1702771200-1703116799@www.afd-hn.de
SUMMARY:Besuch des Bundestags
DESCRIPTION:Der Bundestagsabgeordnete Dr. Dirk Spaniel lädt vom 17. bis 20. Dezember 2023 in den Deutschen Bundestag ein. \nBei Interesse melden Sie sich unter dirk.spaniel.@bundestag.de an. \nIn Berlin gibt es zahlreiche politisch und geschichtlich bedeutende Institutionen Deutschlands zu entdecken: Unter anderem das Reichstagsgebäude\, in dem der Deutsche Bundestag tagt\, Ausschuss-Säle und Bundesministerien\, welche die Orte sind\, in denen die wichtigsten politischen Entscheidungen getroffen werden. Sie werden von einem Reiseführer begleitet. Auch Dr. Spaniel wird die Besucher am 19. Dezember empfangen. \nDer Ablauf der Reise ist wie folgt: Mit der Deutschen Bahn reist die Besuchergruppe am 17. Dezember von Stuttgart nach Berlin. In der gesamten Zeit wird ein Bus die Besucher durch Berlin fahren. Untergebracht sind alle in Doppelzimmern (Einzelzimmer auf Wunsch gegen Aufschlagszahlung möglich) eines guten Mittelklassehotels mit Frühstück. Es besteht lediglich ein Kostenbeitrag von einmalig 20 Euro pro Mitfahrer.
URL:https://www.afd-hn.de/veranstaltung/bundestagsbesuch-dezember2023/
LOCATION:Deutscher Bundestag\, Platz der Republik 1\, Berlin\, 11011\, Deutschland
CATEGORIES:Besuchstage
ATTACH;FMTTYPE=image/jpeg:https://www.afd-hn.de/wp-content/uploads/2023/11/bundestag.jpg
ORGANIZER;CN="Dr. Dirk Spaniel%2C MdB":MAILTO:dirk.spaniel.@bundestag.de
END:VEVENT
END:VCALENDAR